BEGIN:VCALENDAR
VERSION:2.0
PRODID:-//Restored website//NONSGML kigkonsult.se iCalcreator 2.30.10//
CALSCALE:GREGORIAN
METHOD:PUBLISH
UID:fb6251fb-c410-4777-9775-c1501479c3b8
X-WR-CALNAME:iCagenda
X-WR-CALDESC:Event Management Extension for Joomla!
X-WR-RELCALID:3E26604A-50F4-4449-8B3E-E4F4932D05B5
X-WR-TIMEZONE:UTC
BEGIN:VTIMEZONE
TZID:UTC
END:VTIMEZONE
BEGIN:VEVENT
UID:06d1ebe5-e655-4def-ad63-9bcb6925ca86
DTSTAMP:20260422T071805Z
CATEGORIES:Fußball-Zweite
CLASS:PUBLIC
DESCRIPTION:
DTSTART:20250413T130000Z
DTEND:20250413T130000Z
GEO:00;0
LOCATION:Spielort: Oberdachstetten
ORGANIZER:
SEQUENCE:1
SUMMARY:SG Colmberg  / Oberdachstetten II - SG Gallmersgarten- Burgbernheim
  II
TRANSP:OPAQUE
URL:https://www.phantasie.org/index.php/component/icagenda/428-sg-colmberg-
 oberdachstetten-ii-sg-gallmersgarten-burgbernheim-ii/2025-04-13-13-00?Item
 id=101
END:VEVENT
END:VCALENDAR
