BEGIN:VCALENDAR
VERSION:2.0
PRODID:-//Restored website//NONSGML kigkonsult.se iCalcreator 2.30.10//
CALSCALE:GREGORIAN
METHOD:PUBLISH
UID:96ab1c32-0663-4be4-bf24-dd44a6c4298e
X-WR-CALNAME:iCagenda
X-WR-CALDESC:Event Management Extension for Joomla!
X-WR-RELCALID:3E26604A-50F4-4449-8B3E-E4F4932D05B5
X-WR-TIMEZONE:UTC
BEGIN:VTIMEZONE
TZID:UTC
END:VTIMEZONE
BEGIN:VEVENT
UID:3253caed-d642-49f7-a099-b2103a6fda14
DTSTAMP:20260421T170721Z
CATEGORIES:Fussball_Erste
CLASS:PUBLIC
DESCRIPTION:
DTSTART:20241228T130000Z
DTEND:20241228T130000Z
GEO:00;0
LOCATION:Sporthalle
ORGANIZER:
SEQUENCE:1
SUMMARY:Firmen- und Freizeitturnier
TRANSP:OPAQUE
URL:https://www.phantasie.org/index.php/component/icagenda/419-firmen-und-f
 reizeitturnier/2024-12-28-13-00?Itemid=101
END:VEVENT
END:VCALENDAR
