BEGIN:VCALENDAR
VERSION:2.0
PRODID:-//Restored website//NONSGML kigkonsult.se iCalcreator 2.30.10//
CALSCALE:GREGORIAN
METHOD:PUBLISH
UID:b72c4d4d-9089-4bd3-b95a-0c07b5e35d35
X-WR-CALNAME:iCagenda
X-WR-CALDESC:Event Management Extension for Joomla!
X-WR-RELCALID:3E26604A-50F4-4449-8B3E-E4F4932D05B5
X-WR-TIMEZONE:UTC
BEGIN:VTIMEZONE
TZID:UTC
END:VTIMEZONE
BEGIN:VEVENT
UID:ed5fb80c-2059-4239-b2df-caa8cbe42840
DTSTAMP:20260422T060913Z
CATEGORIES:A-Junioren
CLASS:PUBLIC
DESCRIPTION:
DTSTART:20241005T130000Z
DTEND:20241005T130000Z
GEO:00;0
LOCATION:Spielort: Bad Windsheim
ORGANIZER:
SEQUENCE:1
SUMMARY:A: SG Burgbernheim / Mktbergel / Bad Winds - SG Sugenheim / Mkt Bib
  / Mkt Nordh
TRANSP:OPAQUE
URL:https://www.phantasie.org/index.php/component/icagenda/350-a-sg-burgber
 nheim-mktbergel-bad-winds-sg-sugenheim-mkt-bib-mkt-nordh/2024-10-05-13-00?
 Itemid=101
END:VEVENT
END:VCALENDAR
