BEGIN:VCALENDAR
VERSION:2.0
PRODID:-//Restored website//NONSGML kigkonsult.se iCalcreator 2.30.10//
CALSCALE:GREGORIAN
METHOD:PUBLISH
UID:6b83d607-b885-4512-b5f5-e14d2a11920c
X-WR-CALNAME:iCagenda
X-WR-CALDESC:Event Management Extension for Joomla!
X-WR-RELCALID:3E26604A-50F4-4449-8B3E-E4F4932D05B5
X-WR-TIMEZONE:UTC
BEGIN:VTIMEZONE
TZID:UTC
END:VTIMEZONE
BEGIN:VEVENT
UID:b166393c-6a30-4569-a020-62a0f2a44fc6
DTSTAMP:20260424T053405Z
CATEGORIES:Tennis
CLASS:PUBLIC
DESCRIPTION:
DTSTART:20230429T100000Z
DTEND:20230429T100000Z
GEO:00;0
LOCATION:Tennisplätze
ORGANIZER:
SEQUENCE:1
SUMMARY:Saisoneröffnung
TRANSP:OPAQUE
URL:https://www.phantasie.org/index.php/component/icagenda/35-saisoneroeffn
 ung/2023-04-29-10-00?Itemid=101
END:VEVENT
END:VCALENDAR
