BEGIN:VCALENDAR
VERSION:2.0
PRODID:-//Restored website//NONSGML kigkonsult.se iCalcreator 2.30.10//
CALSCALE:GREGORIAN
METHOD:PUBLISH
UID:fb2cac78-1af6-43fc-b2e2-11f0f890097b
X-WR-CALNAME:iCagenda
X-WR-CALDESC:Event Management Extension for Joomla!
X-WR-RELCALID:3E26604A-50F4-4449-8B3E-E4F4932D05B5
X-WR-TIMEZONE:UTC
BEGIN:VTIMEZONE
TZID:UTC
END:VTIMEZONE
BEGIN:VEVENT
UID:0302f9e3-f7ec-4724-9d60-11113103a01a
DTSTAMP:20260422T071835Z
CATEGORIES:D2-Junioren
CLASS:PUBLIC
DESCRIPTION:
DTSTART:20241101T180000Z
DTEND:20241101T180000Z
GEO:00;0
LOCATION:Spielort: Burgbernheim
ORGANIZER:
SEQUENCE:1
SUMMARY:D2: SG Burgbernheim / Marktbergel  2 - SG Uffenheim / Adelshofen / 
 Hohlach 2
TRANSP:OPAQUE
URL:https://www.phantasie.org/index.php/component/icagenda/346-d2-sg-burgbe
 rnheim-marktbergel-2-sg-uffenheim-adelshofen-hohlach-2/2024-11-01-18-00?It
 emid=101
END:VEVENT
END:VCALENDAR
