BEGIN:VCALENDAR
VERSION:2.0
PRODID:-//Restored website//NONSGML kigkonsult.se iCalcreator 2.30.10//
CALSCALE:GREGORIAN
METHOD:PUBLISH
UID:9dd1a99a-42c5-4bcb-a9fb-e8714cdf421b
X-WR-CALNAME:iCagenda
X-WR-CALDESC:Event Management Extension for Joomla!
X-WR-RELCALID:3E26604A-50F4-4449-8B3E-E4F4932D05B5
X-WR-TIMEZONE:UTC
BEGIN:VTIMEZONE
TZID:UTC
END:VTIMEZONE
BEGIN:VEVENT
UID:0552039b-69af-44c3-82a8-542f7d48a27c
DTSTAMP:20260423T164515Z
CATEGORIES:Tennis_Arbeitseinsatz
CLASS:PUBLIC
DESCRIPTION:
DTSTART:20230415T100000Z
DTEND:20230415T100000Z
GEO:00;0
LOCATION:Tennisplätze
ORGANIZER:
SEQUENCE:1
SUMMARY:4. Arbeitseinsatz - Ersatztermin
TRANSP:OPAQUE
URL:https://www.phantasie.org/index.php/component/icagenda/34-4-arbeitseins
 atz-ersatztermin/2023-04-15-10-00?Itemid=101
END:VEVENT
END:VCALENDAR
