BEGIN:VCALENDAR
VERSION:2.0
PRODID:-//Restored website//NONSGML kigkonsult.se iCalcreator 2.30.10//
CALSCALE:GREGORIAN
METHOD:PUBLISH
UID:8efc72ee-f3a7-4ea9-9aa1-ba4d7c2225c7
X-WR-CALNAME:iCagenda
X-WR-CALDESC:Event Management Extension for Joomla!
X-WR-RELCALID:3E26604A-50F4-4449-8B3E-E4F4932D05B5
X-WR-TIMEZONE:UTC
BEGIN:VTIMEZONE
TZID:UTC
END:VTIMEZONE
BEGIN:VEVENT
UID:163bf580-c8d3-4359-8b7b-1443c9ebb0d3
DTSTAMP:20260422T060507Z
CATEGORIES:D1-Junioren (U12/U13)
CLASS:PUBLIC
DESCRIPTION:
DTSTART:20241115T180000Z
DTEND:20241115T180000Z
GEO:00;0
LOCATION:Spielort: Neuhof a. d. Zenn
ORGANIZER:
SEQUENCE:1
SUMMARY:D1: JFG Oberes Zenntal - SG Burgbernheim / Marktbergel
TRANSP:OPAQUE
URL:https://www.phantasie.org/index.php/component/icagenda/339-d1-jfg-obere
 s-zenntal-sg-burgbernheim-marktbergel/2024-11-15-18-00?Itemid=101
END:VEVENT
END:VCALENDAR
