BEGIN:VCALENDAR
VERSION:2.0
PRODID:-//Restored website//NONSGML kigkonsult.se iCalcreator 2.30.10//
CALSCALE:GREGORIAN
METHOD:PUBLISH
UID:4bc34691-a29d-4019-8744-154d9ac906ed
X-WR-CALNAME:iCagenda
X-WR-CALDESC:Event Management Extension for Joomla!
X-WR-RELCALID:3E26604A-50F4-4449-8B3E-E4F4932D05B5
X-WR-TIMEZONE:UTC
BEGIN:VTIMEZONE
TZID:UTC
END:VTIMEZONE
BEGIN:VEVENT
UID:f671275f-a0a6-4652-b16e-043844058e1c
DTSTAMP:20260424T033622Z
CATEGORIES:E1-Junioren (U11)
CLASS:PUBLIC
DESCRIPTION:
DTSTART:20241026T110000Z
DTEND:20241026T110000Z
GEO:00;0
LOCATION:Spielort: Diespeck
ORGANIZER:
SEQUENCE:1
SUMMARY:E1: SG DTV Diespeck / SVS Münchsteinach
TRANSP:OPAQUE
URL:https://www.phantasie.org/index.php/component/icagenda/331-e1-sg-dtv-di
 especk-svs-muenchsteinach/2024-10-26-11-00?Itemid=101
END:VEVENT
END:VCALENDAR
