BEGIN:VCALENDAR
VERSION:2.0
PRODID:-//Restored website//NONSGML kigkonsult.se iCalcreator 2.30.10//
CALSCALE:GREGORIAN
METHOD:PUBLISH
UID:c2486d65-0f72-4763-8c1b-f5fc736c2e2e
X-WR-CALNAME:iCagenda
X-WR-CALDESC:Event Management Extension for Joomla!
X-WR-RELCALID:3E26604A-50F4-4449-8B3E-E4F4932D05B5
X-WR-TIMEZONE:UTC
BEGIN:VTIMEZONE
TZID:UTC
END:VTIMEZONE
BEGIN:VEVENT
UID:2a98fd2c-1abc-4601-918c-530456df06bf
DTSTAMP:20260425T040616Z
CATEGORIES:Tennis_Arbeitseinsatz
CLASS:PUBLIC
DESCRIPTION:
DTSTART:20230408T100000Z
DTEND:20230408T100000Z
GEO:00;0
LOCATION:Tennisplätze
ORGANIZER:
SEQUENCE:1
SUMMARY:3. Arbeitseinsatz
TRANSP:OPAQUE
URL:https://www.phantasie.org/index.php/component/icagenda/32-3-arbeitseins
 atz/2023-04-08-10-00?Itemid=101
END:VEVENT
END:VCALENDAR
