BEGIN:VCALENDAR
VERSION:2.0
PRODID:-//Restored website//NONSGML kigkonsult.se iCalcreator 2.30.10//
CALSCALE:GREGORIAN
METHOD:PUBLISH
UID:f34d2087-b530-4bc8-a062-6fd684a96183
X-WR-CALNAME:iCagenda
X-WR-CALDESC:Event Management Extension for Joomla!
X-WR-RELCALID:3E26604A-50F4-4449-8B3E-E4F4932D05B5
X-WR-TIMEZONE:UTC
BEGIN:VTIMEZONE
TZID:UTC
END:VTIMEZONE
BEGIN:VEVENT
UID:538ecbe8-4881-48cb-aa99-195c86a60e6d
DTSTAMP:20260423T065854Z
CATEGORIES:Verein
CLASS:PUBLIC
DESCRIPTION;ALTREP="CID:<FFFF__=0ABBE548DFE235B58f9e8a93d@coffeebean.com>":
 Wahl der Abteilungsleitung und weiterer Abteilungsaufgaben
DTSTART:20230112T183000Z
DTEND:20230112T183000Z
GEO:00;0
LOCATION:Vereinsheim
ORGANIZER:
SEQUENCE:1
SUMMARY:Tennis
TRANSP:OPAQUE
URL:https://www.phantasie.org/index.php/component/icagenda/26-tennis/2023-0
 1-12-18-30?Itemid=101
END:VEVENT
END:VCALENDAR
