BEGIN:VCALENDAR
VERSION:2.0
PRODID:-//Restored website//NONSGML kigkonsult.se iCalcreator 2.30.10//
CALSCALE:GREGORIAN
METHOD:PUBLISH
UID:db06c551-2280-4a29-9298-8a806a4a7331
X-WR-CALNAME:iCagenda
X-WR-CALDESC:Event Management Extension for Joomla!
X-WR-RELCALID:3E26604A-50F4-4449-8B3E-E4F4932D05B5
X-WR-TIMEZONE:UTC
BEGIN:VTIMEZONE
TZID:UTC
END:VTIMEZONE
BEGIN:VEVENT
UID:a53639e8-f18d-4936-ae7f-6da60b3f3e14
DTSTAMP:20260425T142047Z
CATEGORIES:Tennis
CLASS:PUBLIC
DESCRIPTION:
DTSTART:20240316T100000Z
DTEND:20240316T100000Z
GEO:00;0
LOCATION:Tennisplätze
ORGANIZER:
SEQUENCE:1
SUMMARY:Platzarbeiten 2
TRANSP:OPAQUE
URL:https://www.phantasie.org/index.php/component/icagenda/244-platzarbeite
 n-2/2024-03-16-10-00?Itemid=101
END:VEVENT
END:VCALENDAR
