BEGIN:VCALENDAR
VERSION:2.0
PRODID:-//Restored website//NONSGML kigkonsult.se iCalcreator 2.30.10//
CALSCALE:GREGORIAN
METHOD:PUBLISH
UID:11795ee3-06f0-4a93-b2c8-e000efb1be62
X-WR-CALNAME:iCagenda
X-WR-CALDESC:Event Management Extension for Joomla!
X-WR-RELCALID:3E26604A-50F4-4449-8B3E-E4F4932D05B5
X-WR-TIMEZONE:UTC
BEGIN:VTIMEZONE
TZID:UTC
END:VTIMEZONE
BEGIN:VEVENT
UID:0c60cd47-9f13-4483-afb5-56a7bdf1aa12
DTSTAMP:20260420T001038Z
CATEGORIES:Berglauf_BUT
CLASS:PUBLIC
DESCRIPTION:
DTSTART:20240428T093000Z
DTEND:20240428T093000Z
GEO:00;0
LOCATION:Kapellenberg
ORGANIZER:
SEQUENCE:1
SUMMARY:19. Burgbernheimer Berglauf
TRANSP:OPAQUE
URL:https://www.phantasie.org/index.php/component/icagenda/24-18-burgbernhe
 imer-berglauf/2024-04-28-09-30?Itemid=101
END:VEVENT
END:VCALENDAR
