BEGIN:VCALENDAR
VERSION:2.0
PRODID:-//Restored website//NONSGML kigkonsult.se iCalcreator 2.30.10//
CALSCALE:GREGORIAN
METHOD:PUBLISH
UID:22dd1606-62fe-4994-bab7-b23f796c6c29
X-WR-CALNAME:iCagenda
X-WR-CALDESC:Event Management Extension for Joomla!
X-WR-RELCALID:3E26604A-50F4-4449-8B3E-E4F4932D05B5
X-WR-TIMEZONE:UTC
BEGIN:VTIMEZONE
TZID:UTC
END:VTIMEZONE
BEGIN:VEVENT
UID:876d9b1f-28ed-4d94-8a2e-f3c2b177a63c
DTSTAMP:20260425T024629Z
CATEGORIES:Verein
CLASS:PUBLIC
DESCRIPTION:
DTSTART:20240213T133000Z
DTEND:20240213T133000Z
GEO:00;0
LOCATION:Marktplatz\, Roßmühle
ORGANIZER:
SEQUENCE:1
SUMMARY:Kinderfasching
TRANSP:OPAQUE
URL:https://www.phantasie.org/index.php/component/icagenda/238-kinderfaschi
 ng-2/2024-02-13-13-30?Itemid=101
END:VEVENT
END:VCALENDAR
