BEGIN:VCALENDAR
VERSION:2.0
PRODID:-//Restored website//NONSGML kigkonsult.se iCalcreator 2.30.10//
CALSCALE:GREGORIAN
METHOD:PUBLISH
UID:017f8111-3769-43f4-8e94-e2904bd51b7a
X-WR-CALNAME:iCagenda
X-WR-CALDESC:Event Management Extension for Joomla!
X-WR-RELCALID:3E26604A-50F4-4449-8B3E-E4F4932D05B5
X-WR-TIMEZONE:UTC
BEGIN:VTIMEZONE
TZID:UTC
END:VTIMEZONE
BEGIN:VEVENT
UID:e61afa27-c832-40fc-8ff8-2af0ae65d499
DTSTAMP:20260423T021157Z
CATEGORIES:Volleyball_U12w
CLASS:PUBLIC
DESCRIPTION:
DTSTART:20231119T100000Z
DTEND:20231119T100000Z
GEO:00;0
LOCATION:Spielort: Langenzenn
ORGANIZER:
SEQUENCE:1
SUMMARY:TSV U12w II - TSV U12w I - TSV Ansbach III
TRANSP:OPAQUE
URL:https://www.phantasie.org/index.php/component/icagenda/209-tsv-ii-tsv-i
 -tsv-ansbach-iii/2023-11-19-10-00?Itemid=101
END:VEVENT
END:VCALENDAR
