BEGIN:VCALENDAR
VERSION:2.0
PRODID:-//Restored website//NONSGML kigkonsult.se iCalcreator 2.30.10//
CALSCALE:GREGORIAN
METHOD:PUBLISH
UID:7350a7ac-5516-402c-a4b3-ec692d7a3401
X-WR-CALNAME:iCagenda
X-WR-CALDESC:Event Management Extension for Joomla!
X-WR-RELCALID:3E26604A-50F4-4449-8B3E-E4F4932D05B5
X-WR-TIMEZONE:UTC
BEGIN:VTIMEZONE
TZID:UTC
END:VTIMEZONE
BEGIN:VEVENT
UID:a1371fa7-9496-4d60-a9f8-7330f7595d72
DTSTAMP:20260422T011453Z
CATEGORIES:Spiele_Volleyball_Frauen
CLASS:PUBLIC
DESCRIPTION:
DTSTART:20240316T140000Z
DTEND:20240316T140000Z
GEO:00;0
LOCATION:Spielort: Burgbernheim
ORGANIZER:
SEQUENCE:1
SUMMARY:TSV-Fr - TSV Dinkelsbühl - TSV Weißenburg II
TRANSP:OPAQUE
URL:https://www.phantasie.org/index.php/component/icagenda/132-tsv-tsv-dink
 elsbuehl-tsv-weissenburg-ii/2024-03-16-14-00?Itemid=101
END:VEVENT
END:VCALENDAR
